BEGIN:VCALENDAR
VERSION:2.0
PRODID:-//Carli Hein Creative - ECPv6.15.20//NONSGML v1.0//EN
CALSCALE:GREGORIAN
METHOD:PUBLISH
X-WR-CALNAME:Carli Hein Creative
X-ORIGINAL-URL:https://carliheincreative.com
X-WR-CALDESC:Events for Carli Hein Creative
REFRESH-INTERVAL;VALUE=DURATION:PT1H
X-Robots-Tag:noindex
X-PUBLISHED-TTL:PT1H
BEGIN:VTIMEZONE
TZID:UTC
BEGIN:STANDARD
TZOFFSETFROM:+0000
TZOFFSETTO:+0000
TZNAME:UTC
DTSTART:20230101T000000
END:STANDARD
END:VTIMEZONE
BEGIN:VEVENT
DTSTART;TZID=UTC:20240409T190000
DTEND;TZID=UTC:20240409T200000
DTSTAMP:20260423T185053
CREATED:20240122T151130Z
LAST-MODIFIED:20240122T151130Z
UID:174-1712689200-1712692800@carliheincreative.com
SUMMARY:Wood Trinket Tray DIY Class
DESCRIPTION:
URL:https://carliheincreative.com/event/wood-trinket-tray-diy-class/
LOCATION:Carli’s Home\, 8241 Pennsylvania Road\, Bloomington\, MN\, 55438\, United States
CATEGORIES:Craft Classes
ATTACH;FMTTYPE=image/jpeg:https://carliheincreative.com/wp-content/uploads/2024/01/2019-01-02_0013-600x600-1.jpeg
END:VEVENT
END:VCALENDAR